BEGIN:VCALENDAR
VERSION:2.0
PRODID:-//Show-Me Institute - ECPv6.15.17.1//NONSGML v1.0//EN
CALSCALE:GREGORIAN
METHOD:PUBLISH
X-ORIGINAL-URL:https://showmeinstitute.org
X-WR-CALDESC:Events for Show-Me Institute
REFRESH-INTERVAL;VALUE=DURATION:PT1H
X-Robots-Tag:noindex
X-PUBLISHED-TTL:PT1H
BEGIN:VTIMEZONE
TZID:America/Chicago
BEGIN:DAYLIGHT
TZOFFSETFROM:-0600
TZOFFSETTO:-0500
TZNAME:CDT
DTSTART:20250309T080000
END:DAYLIGHT
BEGIN:STANDARD
TZOFFSETFROM:-0500
TZOFFSETTO:-0600
TZNAME:CST
DTSTART:20251102T070000
END:STANDARD
BEGIN:DAYLIGHT
TZOFFSETFROM:-0600
TZOFFSETTO:-0500
TZNAME:CDT
DTSTART:20260308T080000
END:DAYLIGHT
BEGIN:STANDARD
TZOFFSETFROM:-0500
TZOFFSETTO:-0600
TZNAME:CST
DTSTART:20261101T070000
END:STANDARD
BEGIN:DAYLIGHT
TZOFFSETFROM:-0600
TZOFFSETTO:-0500
TZNAME:CDT
DTSTART:20270314T080000
END:DAYLIGHT
BEGIN:STANDARD
TZOFFSETFROM:-0500
TZOFFSETTO:-0600
TZNAME:CST
DTSTART:20271107T070000
END:STANDARD
END:VTIMEZONE
BEGIN:VEVENT
DTSTART;TZID=America/Chicago:20260304T113000
DTEND;TZID=America/Chicago:20260304T130000
DTSTAMP:20260424T210351
CREATED:20260209T181248Z
LAST-MODIFIED:20260209T181420Z
UID:602016-1772623800-1772629200@showmeinstitute.org
SUMMARY:Insider's Hour with the Show-Me Institute
DESCRIPTION:What’s Happening in Jefferson City? \nJoin us and get the inside scoop on the Missouri legislative session and policies that could directly affect the lives of Missourians at the Show-Me Institute’s Insider’s Hour! \nCEO Brenda Talent\, Director of Education Policy Cory Koedel\, Director of Municipal Policy David Stokes\, and Senior Policy Analyst Avery Frank will discuss\, from a free-market policy perspective\, what is being done to address these important issues: \n\nEducation: Missouri’s reading test scores have hit a 20-year low\, showing that 42 percent of the state’s fourth graders can barely read. The state is facing a serious literacy crisis.\nTaxes: St. Louis County leaders are considering a property tax increase to fund senior citizen services.\nEnergy: The governor has made it clear he wants to meet growing energy demand in a way that protects ratepayers and addresses Missouri’s current and future needs through an “all-in” commitment to nuclear energy and new approaches like consumer-regulated electricity.\n\nRegister now to hear expert insights and have your questions answered on these topics and more. \n\n\n\n\n\n\n\n\nWednesday\, March 4\nMAC West\nDoors open: 11:30 a.m.\nDiscussion and Q&A: 12—1:30 p.m.\nTicket Price $20 (includes lunch and beverages)\nREGISTER HERE\n\n\n\n\n\n\n\n\n\n\n\n\n\n\n\nThese events are open to anyone interested in learning more about policies that could shape Missouri’s future. Please feel free to share with friends and colleagues.
URL:https://showmeinstitute.org/event/insiders-hour-with-the-show-me-institute-march-4/
LOCATION:MAC West\, 1777 Des Peres Rd\, Des Peres\, 63131\, United States
ATTACH;FMTTYPE=image/jpeg:https://showmeinstitute.org/wp-content/uploads/2026/02/20260304-Insiders-Hour_Web.jpg
END:VEVENT
END:VCALENDAR