BEGIN:VCALENDAR
VERSION:2.0
PRODID:-//Show-Me Institute - ECPv6.15.17.1//NONSGML v1.0//EN
CALSCALE:GREGORIAN
METHOD:PUBLISH
X-ORIGINAL-URL:https://showmeinstitute.org
X-WR-CALDESC:Events for Show-Me Institute
REFRESH-INTERVAL;VALUE=DURATION:PT1H
X-Robots-Tag:noindex
X-PUBLISHED-TTL:PT1H
BEGIN:VTIMEZONE
TZID:America/Chicago
BEGIN:DAYLIGHT
TZOFFSETFROM:-0600
TZOFFSETTO:-0500
TZNAME:CDT
DTSTART:20200308T080000
END:DAYLIGHT
BEGIN:STANDARD
TZOFFSETFROM:-0500
TZOFFSETTO:-0600
TZNAME:CST
DTSTART:20201101T070000
END:STANDARD
BEGIN:DAYLIGHT
TZOFFSETFROM:-0600
TZOFFSETTO:-0500
TZNAME:CDT
DTSTART:20210314T080000
END:DAYLIGHT
BEGIN:STANDARD
TZOFFSETFROM:-0500
TZOFFSETTO:-0600
TZNAME:CST
DTSTART:20211107T070000
END:STANDARD
BEGIN:DAYLIGHT
TZOFFSETFROM:-0600
TZOFFSETTO:-0500
TZNAME:CDT
DTSTART:20220313T080000
END:DAYLIGHT
BEGIN:STANDARD
TZOFFSETFROM:-0500
TZOFFSETTO:-0600
TZNAME:CST
DTSTART:20221106T070000
END:STANDARD
END:VTIMEZONE
BEGIN:VEVENT
DTSTART;TZID=America/Chicago:20210614T173000
DTEND;TZID=America/Chicago:20210614T190000
DTSTAMP:20260419T104744
CREATED:20210520T170726Z
LAST-MODIFIED:20210520T170726Z
UID:601310-1623691800-1623697200@showmeinstitute.org
SUMMARY:Live Event! Media Matters: The Impact of Storytelling on Culture
DESCRIPTION:Join us on Monday\, June 14 (Flag Day) for an in-person presentation by Lee Habeeb on The Impact of Storytelling on Culture. \nLee Habeeb is the CEO and founder of the non-profit radio network American Private Radio and the on-air radio host of Our American Stories. \nEvent Details\nNOTE:  If you are not fully vaccinated\, in accordance with CDC guidelines and St. Louis City Emergency Order 19\, please wear a mask and observe social distancing. \nWhere: 5297 Washington Place | Saint Louis\, MO 63108\nWhen: Monday\, June 14 \nReception@5:30 pm\nPresentation@6:00 pm\nClick Here to Register\n\nAbout Our American Stories \n\nDownload the Our American Stories podcast on Itunes\, Google Play\, Spotify\, or wherever you find your podcasts\, and visit ouramericanstories.com to find an affiliate station near you. \nAbout Our Speaker \nLee Habeeb got his start in radio co-creating The Laura Ingraham Show\, which launched in 2001. By 2007\, it was the #1 show in America in its time slot. He moved to Salem Media Group\, where he serves as VP of Content\, overseeing shows hosted by some of conservativism’s greats: Bill Bennett\, Dennis Prager\, Hugh Hewitt\, Larry Elder\, and Eric Metaxas. Habeeb also writes a weekly column at Newsweek.
URL:https://showmeinstitute.org/event/live-event-media-matters-the-impact-of-storytelling-on-culture/
LOCATION:Missouri
ATTACH;FMTTYPE=image/jpeg:https://showmeinstitute.org/wp-content/uploads/2021/05/Habeeb-banner-web.jpg
END:VEVENT
END:VCALENDAR