BEGIN:VCALENDAR
VERSION:2.0
PRODID:-//Show-Me Institute - ECPv6.15.17.1//NONSGML v1.0//EN
CALSCALE:GREGORIAN
METHOD:PUBLISH
X-ORIGINAL-URL:https://showmeinstitute.org
X-WR-CALDESC:Events for Show-Me Institute
REFRESH-INTERVAL;VALUE=DURATION:PT1H
X-Robots-Tag:noindex
X-PUBLISHED-TTL:PT1H
BEGIN:VTIMEZONE
TZID:America/Chicago
BEGIN:DAYLIGHT
TZOFFSETFROM:-0600
TZOFFSETTO:-0500
TZNAME:CDT
DTSTART:20200308T080000
END:DAYLIGHT
BEGIN:STANDARD
TZOFFSETFROM:-0500
TZOFFSETTO:-0600
TZNAME:CST
DTSTART:20201101T070000
END:STANDARD
BEGIN:DAYLIGHT
TZOFFSETFROM:-0600
TZOFFSETTO:-0500
TZNAME:CDT
DTSTART:20210314T080000
END:DAYLIGHT
BEGIN:STANDARD
TZOFFSETFROM:-0500
TZOFFSETTO:-0600
TZNAME:CST
DTSTART:20211107T070000
END:STANDARD
BEGIN:DAYLIGHT
TZOFFSETFROM:-0600
TZOFFSETTO:-0500
TZNAME:CDT
DTSTART:20220313T080000
END:DAYLIGHT
BEGIN:STANDARD
TZOFFSETFROM:-0500
TZOFFSETTO:-0600
TZNAME:CST
DTSTART:20221106T070000
END:STANDARD
END:VTIMEZONE
BEGIN:VEVENT
DTSTART;TZID=America/Chicago:20210512T120000
DTEND;TZID=America/Chicago:20210512T124500
DTSTAMP:20260419T125532
CREATED:20210429T151728Z
LAST-MODIFIED:20210429T151728Z
UID:601309-1620820800-1620823500@showmeinstitute.org
SUMMARY:Ramesh Ponnuru: The Case for a Conservative Economic Agenda
DESCRIPTION:Conservatives have traditionally favored freeing markets and shrinking government. But new political and economic trends are leading many conservatives to question these old commitments. Join us on Wednesday\, May 12 at noon for a talk by Ramesh Ponnuru who will make the case for a new conservative economic agenda. \nRegister Here \nQuestions may be submitted prior to the event by emailing them to Zach.Lawhorn@ShowMeOpportunity.org and during the event via the Q&A feature on your Zoom screen. \nRamesh Ponnuru is a senior fellow at National Review Institute and a senior editor at National Review\, where he has covered national politics and policy for 25 years. He is also a columnist for Bloomberg Opinion\, which syndicates his articles in newspapers across the nation. He is a visiting fellow at the American Enterprise Institute and he serves as a contributing editor to National Affairs\, the quarterly journal of conservative ideas. His articles are frequently published in The Wall Street Journal\, The New York Times\, and The Washington Post. In 2015\, he was included in the “Politico 50\,” Politico’s list of “the thinkers\, doers\, and dreamers who really matter” in American politics. \nIn 2014\, Ponnuru contributed to and (with Yuval Levin) edited the book Room to Grow: Conservative Reforms for a Limited Government and A Thriving Middle Class. New York Times columnist David Brooks called the book “the most coherent and compelling policy agenda the American right has produced this century.” Ponnuru was subsequently featured in a New York Times magazine cover story about reform-minded conservatives. In 2013 he was a resident fellow at the University of Chicago’s Institute of Politics. He is a regular speaker on policy\, politics\, and constitutionalism at the nation’s leading college campuses and law schools. He also appears regularly on television programs about public affairs. He is the author of a book on the sanctity of human life and American politics and of a monograph on Japanese industrial policy. Previously he has been a columnist for Time magazine and WashingtonPost.com. Ponnuru grew up in Kansas City\, Kansas\, and graduated from Princeton University. He now lives in the Washington\, D.C.\, area with his wife and three children.
URL:https://showmeinstitute.org/event/ramesh-ponnuru-the-case-for-a-conservative-economic-agenda/
LOCATION:Missouri
ATTACH;FMTTYPE=image/png:https://showmeinstitute.org/wp-content/uploads/2021/04/The-Case-for-a-Conservative-Economic-Agenda.png
END:VEVENT
END:VCALENDAR