BEGIN:VCALENDAR
VERSION:2.0
PRODID:-//Show-Me Institute - ECPv6.15.17.1//NONSGML v1.0//EN
CALSCALE:GREGORIAN
METHOD:PUBLISH
X-ORIGINAL-URL:https://showmeinstitute.org
X-WR-CALDESC:Events for Show-Me Institute
REFRESH-INTERVAL;VALUE=DURATION:PT1H
X-Robots-Tag:noindex
X-PUBLISHED-TTL:PT1H
BEGIN:VTIMEZONE
TZID:America/Chicago
BEGIN:DAYLIGHT
TZOFFSETFROM:-0600
TZOFFSETTO:-0500
TZNAME:CDT
DTSTART:20200308T080000
END:DAYLIGHT
BEGIN:STANDARD
TZOFFSETFROM:-0500
TZOFFSETTO:-0600
TZNAME:CST
DTSTART:20201101T070000
END:STANDARD
BEGIN:DAYLIGHT
TZOFFSETFROM:-0600
TZOFFSETTO:-0500
TZNAME:CDT
DTSTART:20210314T080000
END:DAYLIGHT
BEGIN:STANDARD
TZOFFSETFROM:-0500
TZOFFSETTO:-0600
TZNAME:CST
DTSTART:20211107T070000
END:STANDARD
BEGIN:DAYLIGHT
TZOFFSETFROM:-0600
TZOFFSETTO:-0500
TZNAME:CDT
DTSTART:20220313T080000
END:DAYLIGHT
BEGIN:STANDARD
TZOFFSETFROM:-0500
TZOFFSETTO:-0600
TZNAME:CST
DTSTART:20221106T070000
END:STANDARD
END:VTIMEZONE
BEGIN:VEVENT
DTSTART;TZID=America/Chicago:20210318T120000
DTEND;TZID=America/Chicago:20210318T130000
DTSTAMP:20260419T161600
CREATED:20210215T203655Z
LAST-MODIFIED:20210215T203655Z
UID:601307-1616068800-1616072400@showmeinstitute.org
SUMMARY:March 18: The Power of Storytelling: Connecting Policy with People
DESCRIPTION:Join us on Thursday\, March 18 for a special virtual event with Lee Habeeb. \nLee Habeeb is CEO and founder of American Private Radio and host of Our American Stories. \nDownload the Our American Stories podcast on Itunes\, Google Play\, Spotfiy or wherever you find your podcasts and visit ouramericanstories.com  to find an affiliate station near you. \nRegister Here \nAbout the Speaker\nLee Habeeb got his start in radio co-creating The Laura Ingraham Show\, which launched in 2001. By 2007\, it was the #1 show in America in its time slot. He moved to Salem Media Group\, where he serves as VP of Content\, overseeing shows hosted by some of conservativism’s greats: Bill Bennett\, Dennis Prager\, Hugh Hewitt\, Larry Elder\, and Eric Metaxas. Habeeb also writes a weekly column at Newsweek. A University of Virginia Law School graduate\, he lives in Oxford\, MS with his wife Valerie and daughter Reagan.
URL:https://showmeinstitute.org/event/the-power-of-storytelling-connecting-policy-with-people/
LOCATION:Missouri
ATTACH;FMTTYPE=image/jpeg:https://showmeinstitute.org/wp-content/uploads/2021/02/shutterstock_511330030-scaled-1.jpg
END:VEVENT
END:VCALENDAR