BEGIN:VCALENDAR
VERSION:2.0
PRODID:-//Show-Me Institute - ECPv6.15.17.1//NONSGML v1.0//EN
CALSCALE:GREGORIAN
METHOD:PUBLISH
X-ORIGINAL-URL:https://showmeinstitute.org
X-WR-CALDESC:Events for Show-Me Institute
REFRESH-INTERVAL;VALUE=DURATION:PT1H
X-Robots-Tag:noindex
X-PUBLISHED-TTL:PT1H
BEGIN:VTIMEZONE
TZID:America/Chicago
BEGIN:DAYLIGHT
TZOFFSETFROM:-0600
TZOFFSETTO:-0500
TZNAME:CDT
DTSTART:20190310T080000
END:DAYLIGHT
BEGIN:STANDARD
TZOFFSETFROM:-0500
TZOFFSETTO:-0600
TZNAME:CST
DTSTART:20191103T070000
END:STANDARD
BEGIN:DAYLIGHT
TZOFFSETFROM:-0600
TZOFFSETTO:-0500
TZNAME:CDT
DTSTART:20200308T080000
END:DAYLIGHT
BEGIN:STANDARD
TZOFFSETFROM:-0500
TZOFFSETTO:-0600
TZNAME:CST
DTSTART:20201101T070000
END:STANDARD
BEGIN:DAYLIGHT
TZOFFSETFROM:-0600
TZOFFSETTO:-0500
TZNAME:CDT
DTSTART:20210314T080000
END:DAYLIGHT
BEGIN:STANDARD
TZOFFSETFROM:-0500
TZOFFSETTO:-0600
TZNAME:CST
DTSTART:20211107T070000
END:STANDARD
END:VTIMEZONE
BEGIN:VEVENT
DTSTART;TZID=America/Chicago:20201208T110000
DTEND;TZID=America/Chicago:20201208T120000
DTSTAMP:20260419T211413
CREATED:20201125T201211Z
LAST-MODIFIED:20201125T201211Z
UID:601304-1607425200-1607428800@showmeinstitute.org
SUMMARY:Virtual Town Hall: A Blueprint for Missouri
DESCRIPTION:Join us on Tuesday\, December 8 at 11:00 AM as Show-Me Institute researchers unveil the 2021 Blueprint for Missouri during a live virtual town hall.\n\nRegister Here
URL:https://showmeinstitute.org/event/virtual-town-hall-a-blueprint-for-missouri/
LOCATION:Missouri
ATTACH;FMTTYPE=image/png:https://showmeinstitute.org/wp-content/uploads/2020/11/Screen-Shot-2020-11-25-at-2.09.27-PM.png
END:VEVENT
END:VCALENDAR